BEGIN:VCALENDAR
VERSION:2.0
PRODID:-//SVP Kanton Basel Stadt //NONSGML Events //EN
CALSCALE:GREGORIAN
X-WR-CALNAME:SVP Kanton Basel Stadt
BEGIN:VEVENT
CREATED:20241203T125037Z
UID:32969
DTEND:20250325T000000
DTSTART:20250325T000000
DTSTAMP:20260420T114438Z
LOCATION:
DESCRIPTION:
SUMMARY:Bürgergemeinderat
ORGANIZER:
URL;VALUE=URI:https://www.svp-basel.ch/aktuell/termine/buergergemeinderat-24/
TRANSP:OPAQUE
END:VEVENT
END:VCALENDAR
