BEGIN:VCALENDAR
VERSION:2.0
PRODID:-//SVP Kanton Basel Stadt //NONSGML Events //EN
CALSCALE:GREGORIAN
X-WR-CALNAME:SVP Kanton Basel Stadt
BEGIN:VEVENT
CREATED:20230214T120346Z
UID:13887
DTEND:20231024T190000
DTSTART:20231024T183000
DTSTAMP:20260420T132457Z
LOCATION:Basel
DESCRIPTION:
SUMMARY:Parteiversammlung SVP
ORGANIZER:
URL;VALUE=URI:https://www.svp-basel.ch/aktuell/termine/parteiversammlung-svp-4/
TRANSP:OPAQUE
END:VEVENT
END:VCALENDAR
